BEGIN:VCALENDAR
VERSION:2.0
PRODID:-//Grampy Comedy - ECPv6.15.11//NONSGML v1.0//EN
CALSCALE:GREGORIAN
METHOD:PUBLISH
X-ORIGINAL-URL:https://grampycomedy.com
X-WR-CALDESC:Events for Grampy Comedy
REFRESH-INTERVAL;VALUE=DURATION:PT1H
X-Robots-Tag:noindex
X-PUBLISHED-TTL:PT1H
BEGIN:VTIMEZONE
TZID:America/Halifax
BEGIN:DAYLIGHT
TZOFFSETFROM:-0400
TZOFFSETTO:-0300
TZNAME:ADT
DTSTART:20240310T060000
END:DAYLIGHT
BEGIN:STANDARD
TZOFFSETFROM:-0300
TZOFFSETTO:-0400
TZNAME:AST
DTSTART:20241103T050000
END:STANDARD
BEGIN:DAYLIGHT
TZOFFSETFROM:-0400
TZOFFSETTO:-0300
TZNAME:ADT
DTSTART:20250309T060000
END:DAYLIGHT
BEGIN:STANDARD
TZOFFSETFROM:-0300
TZOFFSETTO:-0400
TZNAME:AST
DTSTART:20251102T050000
END:STANDARD
BEGIN:DAYLIGHT
TZOFFSETFROM:-0400
TZOFFSETTO:-0300
TZNAME:ADT
DTSTART:20260308T060000
END:DAYLIGHT
BEGIN:STANDARD
TZOFFSETFROM:-0300
TZOFFSETTO:-0400
TZNAME:AST
DTSTART:20261101T050000
END:STANDARD
BEGIN:DAYLIGHT
TZOFFSETFROM:-0400
TZOFFSETTO:-0300
TZNAME:ADT
DTSTART:20270314T060000
END:DAYLIGHT
BEGIN:STANDARD
TZOFFSETFROM:-0300
TZOFFSETTO:-0400
TZNAME:AST
DTSTART:20271107T050000
END:STANDARD
END:VTIMEZONE
BEGIN:VEVENT
DTSTART;TZID=America/Halifax:20250807T183000
DTEND;TZID=America/Halifax:20250807T183000
DTSTAMP:20260421T023413
CREATED:20250605T193903Z
LAST-MODIFIED:20250605T201549Z
UID:10000004-1754591400-1754591400@grampycomedy.com
SUMMARY:Sullivan County Animal Shelter Fundraiser
DESCRIPTION:  \nThe Sullivan County Tennessee Animal Shelter will be holding its annual fundraiser with family friendly comedy with Grampy as the headliner.  Other featured performers include Garrett McDonald\, Scott Bivens with the show hosted by Evelyn Pekarek & Tater Tot.  Ticket includes a pizza and salad buffet with drink.
URL:https://grampycomedy.com/event/sullivan-county-animal-shelter-fundraiser/
LOCATION:Blue Ridge Comedy Club\, 560 English Street\, Bristol\, TN\, 37620
ATTACH;FMTTYPE=image/jpeg:https://grampycomedy.com/wp-content/uploads/2025/06/Grampy-at-ISC.jpg
END:VEVENT
BEGIN:VEVENT
DTSTART;TZID=America/Halifax:20251010T200000
DTEND;TZID=America/Halifax:20251010T213000
DTSTAMP:20260421T023413
CREATED:20250918T133632Z
LAST-MODIFIED:20251007T173122Z
UID:10000006-1760126400-1760131800@grampycomedy.com
SUMMARY:Clean Comedy Collective
DESCRIPTION:
URL:https://grampycomedy.com/event/clean-comedy-collective/
LOCATION:The Wallace Theatre\, 215 E. Main St\, Johnson City\, TN\, 37604\, United States
END:VEVENT
BEGIN:VEVENT
DTSTART;TZID=America/Halifax:20251107T200000
DTEND;TZID=America/Halifax:20251107T213000
DTSTAMP:20260421T023413
CREATED:20250918T133824Z
LAST-MODIFIED:20251007T173312Z
UID:10000007-1762545600-1762551000@grampycomedy.com
SUMMARY:Clean Comedy Collective
DESCRIPTION:
URL:https://grampycomedy.com/event/clean-comedy-collective-2/
LOCATION:The Wallace Theatre\, 215 E. Main St\, Johnson City\, TN\, 37604\, United States
END:VEVENT
BEGIN:VEVENT
DTSTART;TZID=America/Halifax:20251218T190000
DTEND;TZID=America/Halifax:20251218T210000
DTSTAMP:20260421T023413
CREATED:20250918T135344Z
LAST-MODIFIED:20251007T173202Z
UID:10000008-1766084400-1766091600@grampycomedy.com
SUMMARY:Joel Byars
DESCRIPTION:
URL:https://grampycomedy.com/event/joel-byars/
LOCATION:International Storytelling Center\, 100 W. Main Street\, Jonesborough\, TN\, 37659
END:VEVENT
BEGIN:VEVENT
DTSTART;TZID=America/Halifax:20260328T190000
DTEND;TZID=America/Halifax:20260328T213000
DTSTAMP:20260421T023413
CREATED:20260225T202839Z
LAST-MODIFIED:20260225T202839Z
UID:10000009-1774724400-1774733400@grampycomedy.com
SUMMARY:Hit Reset - Clean Comedy Show
DESCRIPTION:
URL:https://grampycomedy.com/event/hit-reset-clean-comedy-show/
LOCATION:C.A.M.P\, 1 Kenilworth Knolls\, Suite 1\, Asheville\, NC\, 28805\, United States
END:VEVENT
BEGIN:VEVENT
DTSTART;TZID=America/Halifax:20260501T200000
DTEND;TZID=America/Halifax:20260501T213000
DTSTAMP:20260421T023413
CREATED:20260225T203121Z
LAST-MODIFIED:20260225T203121Z
UID:10000010-1777665600-1777671000@grampycomedy.com
SUMMARY:Clean Comedy Collective @ Wallace Theatre
DESCRIPTION:
URL:https://grampycomedy.com/event/clean-comedy-collective-wallace-theatre/
LOCATION:The Wallace Theatre\, 215 E. Main St\, Johnson City\, TN\, 37604\, United States
END:VEVENT
BEGIN:VEVENT
DTSTART;TZID=America/Halifax:20260530T200000
DTEND;TZID=America/Halifax:20260530T213000
DTSTAMP:20260421T023413
CREATED:20260225T203421Z
LAST-MODIFIED:20260225T203421Z
UID:10000011-1780171200-1780176600@grampycomedy.com
SUMMARY:Grampy @ Laugh Out Lounge
DESCRIPTION:
URL:https://grampycomedy.com/event/grampy-laugh-out-lounge/
LOCATION:Laugh Out Lounge\, 19 3rd St NW\, Winter Haven\, FL\, 33880\, United States
END:VEVENT
BEGIN:VEVENT
DTSTART;TZID=America/Halifax:20260626T200000
DTEND;TZID=America/Halifax:20260626T220000
DTSTAMP:20260421T023413
CREATED:20260225T204117Z
LAST-MODIFIED:20260225T204117Z
UID:10000012-1782504000-1782511200@grampycomedy.com
SUMMARY:Leslie Norris Townsend & Grampy
DESCRIPTION:
URL:https://grampycomedy.com/event/leslie-norris-townsend-grampy/
LOCATION:Cary Arts Center\, 316 N. Academy St\, Cary\, NC\, 27513\, United States
END:VEVENT
BEGIN:VEVENT
DTSTART;TZID=America/Halifax:20260716T200000
DTEND;TZID=America/Halifax:20260718T220000
DTSTAMP:20260421T023413
CREATED:20260225T204407Z
LAST-MODIFIED:20260225T204407Z
UID:10000013-1784232000-1784412000@grampycomedy.com
SUMMARY:Clean Comedy Challenge
DESCRIPTION:
URL:https://grampycomedy.com/event/clean-comedy-challenge/
LOCATION:Jersey Hustle Comedy Club\, 1548 Parkway\, Sevierville\, TN\, 37862\, United States
END:VEVENT
END:VCALENDAR