BEGIN:VCALENDAR
VERSION:2.0
PRODID:-//Grampy Comedy - ECPv6.15.11//NONSGML v1.0//EN
CALSCALE:GREGORIAN
METHOD:PUBLISH
X-ORIGINAL-URL:https://grampycomedy.com
X-WR-CALDESC:Events for Grampy Comedy
REFRESH-INTERVAL;VALUE=DURATION:PT1H
X-Robots-Tag:noindex
X-PUBLISHED-TTL:PT1H
BEGIN:VTIMEZONE
TZID:America/Halifax
BEGIN:DAYLIGHT
TZOFFSETFROM:-0400
TZOFFSETTO:-0300
TZNAME:ADT
DTSTART:20250309T060000
END:DAYLIGHT
BEGIN:STANDARD
TZOFFSETFROM:-0300
TZOFFSETTO:-0400
TZNAME:AST
DTSTART:20251102T050000
END:STANDARD
BEGIN:DAYLIGHT
TZOFFSETFROM:-0400
TZOFFSETTO:-0300
TZNAME:ADT
DTSTART:20260308T060000
END:DAYLIGHT
BEGIN:STANDARD
TZOFFSETFROM:-0300
TZOFFSETTO:-0400
TZNAME:AST
DTSTART:20261101T050000
END:STANDARD
BEGIN:DAYLIGHT
TZOFFSETFROM:-0400
TZOFFSETTO:-0300
TZNAME:ADT
DTSTART:20270314T060000
END:DAYLIGHT
BEGIN:STANDARD
TZOFFSETFROM:-0300
TZOFFSETTO:-0400
TZNAME:AST
DTSTART:20271107T050000
END:STANDARD
END:VTIMEZONE
BEGIN:VEVENT
DTSTART;TZID=America/Halifax:20260530T200000
DTEND;TZID=America/Halifax:20260530T213000
DTSTAMP:20260421T023610
CREATED:20260225T203421Z
LAST-MODIFIED:20260225T203421Z
UID:10000011-1780171200-1780176600@grampycomedy.com
SUMMARY:Grampy @ Laugh Out Lounge
DESCRIPTION:
URL:https://grampycomedy.com/event/grampy-laugh-out-lounge/
LOCATION:Laugh Out Lounge\, 19 3rd St NW\, Winter Haven\, FL\, 33880\, United States
END:VEVENT
BEGIN:VEVENT
DTSTART;TZID=America/Halifax:20260626T200000
DTEND;TZID=America/Halifax:20260626T220000
DTSTAMP:20260421T023610
CREATED:20260225T204117Z
LAST-MODIFIED:20260225T204117Z
UID:10000012-1782504000-1782511200@grampycomedy.com
SUMMARY:Leslie Norris Townsend & Grampy
DESCRIPTION:
URL:https://grampycomedy.com/event/leslie-norris-townsend-grampy/
LOCATION:Cary Arts Center\, 316 N. Academy St\, Cary\, NC\, 27513\, United States
END:VEVENT
BEGIN:VEVENT
DTSTART;TZID=America/Halifax:20260716T200000
DTEND;TZID=America/Halifax:20260718T220000
DTSTAMP:20260421T023610
CREATED:20260225T204407Z
LAST-MODIFIED:20260225T204407Z
UID:10000013-1784232000-1784412000@grampycomedy.com
SUMMARY:Clean Comedy Challenge
DESCRIPTION:
URL:https://grampycomedy.com/event/clean-comedy-challenge/
LOCATION:Jersey Hustle Comedy Club\, 1548 Parkway\, Sevierville\, TN\, 37862\, United States
END:VEVENT
END:VCALENDAR