BEGIN:VCALENDAR
VERSION:2.0
PRODID:-//Grampy Comedy - ECPv6.15.11//NONSGML v1.0//EN
CALSCALE:GREGORIAN
METHOD:PUBLISH
X-ORIGINAL-URL:https://grampycomedy.com
X-WR-CALDESC:Events for Grampy Comedy
REFRESH-INTERVAL;VALUE=DURATION:PT1H
X-Robots-Tag:noindex
X-PUBLISHED-TTL:PT1H
BEGIN:VTIMEZONE
TZID:America/Halifax
BEGIN:DAYLIGHT
TZOFFSETFROM:-0400
TZOFFSETTO:-0300
TZNAME:ADT
DTSTART:20240310T060000
END:DAYLIGHT
BEGIN:STANDARD
TZOFFSETFROM:-0300
TZOFFSETTO:-0400
TZNAME:AST
DTSTART:20241103T050000
END:STANDARD
BEGIN:DAYLIGHT
TZOFFSETFROM:-0400
TZOFFSETTO:-0300
TZNAME:ADT
DTSTART:20250309T060000
END:DAYLIGHT
BEGIN:STANDARD
TZOFFSETFROM:-0300
TZOFFSETTO:-0400
TZNAME:AST
DTSTART:20251102T050000
END:STANDARD
BEGIN:DAYLIGHT
TZOFFSETFROM:-0400
TZOFFSETTO:-0300
TZNAME:ADT
DTSTART:20260308T060000
END:DAYLIGHT
BEGIN:STANDARD
TZOFFSETFROM:-0300
TZOFFSETTO:-0400
TZNAME:AST
DTSTART:20261101T050000
END:STANDARD
END:VTIMEZONE
BEGIN:VEVENT
DTSTART;TZID=America/Halifax:20250720T190000
DTEND;TZID=America/Halifax:20250720T190000
DTSTAMP:20260421T014659
CREATED:20250605T193014Z
LAST-MODIFIED:20250605T201715Z
UID:10000003-1753038000-1753038000@grampycomedy.com
SUMMARY:FunFest Comedy Show
DESCRIPTION:  \nThe Clean Comedy Collective is providing a family friendly comedy show as part of FunFest.  Drew Davis will be the Headliner\, Grampy will feature with special guest Rachel Bridges and Meghan Little Carty.
URL:https://grampycomedy.com/event/funfest-comedy-show/
LOCATION:Colonial Heights United Methodist Church\, 631 Lebanon Road\, Kingsport\, TN\, 37663
ATTACH;FMTTYPE=image/png:https://grampycomedy.com/wp-content/uploads/2025/06/Drew-Davis.png
END:VEVENT
END:VCALENDAR