BEGIN:VCALENDAR
VERSION:2.0
PRODID:-//Grampy Comedy - ECPv6.15.11//NONSGML v1.0//EN
CALSCALE:GREGORIAN
METHOD:PUBLISH
X-WR-CALNAME:Grampy Comedy
X-ORIGINAL-URL:https://grampycomedy.com
X-WR-CALDESC:Events for Grampy Comedy
REFRESH-INTERVAL;VALUE=DURATION:PT1H
X-Robots-Tag:noindex
X-PUBLISHED-TTL:PT1H
BEGIN:VTIMEZONE
TZID:America/Denver
BEGIN:DAYLIGHT
TZOFFSETFROM:-0700
TZOFFSETTO:-0600
TZNAME:MDT
DTSTART:20240310T090000
END:DAYLIGHT
BEGIN:STANDARD
TZOFFSETFROM:-0600
TZOFFSETTO:-0700
TZNAME:MST
DTSTART:20241103T080000
END:STANDARD
BEGIN:DAYLIGHT
TZOFFSETFROM:-0700
TZOFFSETTO:-0600
TZNAME:MDT
DTSTART:20250309T090000
END:DAYLIGHT
BEGIN:STANDARD
TZOFFSETFROM:-0600
TZOFFSETTO:-0700
TZNAME:MST
DTSTART:20251102T080000
END:STANDARD
BEGIN:DAYLIGHT
TZOFFSETFROM:-0700
TZOFFSETTO:-0600
TZNAME:MDT
DTSTART:20260308T090000
END:DAYLIGHT
BEGIN:STANDARD
TZOFFSETFROM:-0600
TZOFFSETTO:-0700
TZNAME:MST
DTSTART:20261101T080000
END:STANDARD
END:VTIMEZONE
BEGIN:VEVENT
DTSTART;TZID=America/Denver:20250619T193000
DTEND;TZID=America/Denver:20250619T193000
DTSTAMP:20260421T022951
CREATED:20250410T142017Z
LAST-MODIFIED:20250605T201641Z
UID:10000001-1750361400-1750361400@grampycomedy.com
SUMMARY:Clean Comedy Collective presents Dales Jones
DESCRIPTION:  \nDale Jones\, a semi-finalist from NBC’s Last Comic Standing Season 6\, will be our Headliner. With over 20 years of experience\, Dale brings a whirlwind of energy\, lightning-fast delivery\, animated facial expressions\, and hilarious physical comedy. His unique style and improvisational genius will leave you laughing until it hurts—and wishing you had half his energy!
URL:https://grampycomedy.com/event/dales_jones/
LOCATION:International Storytelling Center\, 100 W. Main Street\, Jonesborough\, TN\, 37659
ATTACH;FMTTYPE=image/png:https://grampycomedy.com/wp-content/uploads/2025/04/Dale-Jones-with-Credits.png
END:VEVENT
END:VCALENDAR